Workbook

Sheet 账单1
A1: 厦门银行结构性存款产品2023年5月账单
A2: 尊敬的投资者： 感谢您对我行结构性存款产品的关注，根据厦门银行人民币结构性存款产品信息披露的有关规定，我行就各期产品存续运作情况公告如下： 1、产品收益情况：产品最终所获得的结构性存款实际投资收益率取决于挂钩标的在定价日内的表现； 2、持仓风险：本产品包括但不限于市场风险、法律与政策风险、不可抗力风险，详情请见《风险揭示书》； 3、风险控制措施：厦门银行紧密关注挂钩标的及国际市场动态，每月将本产品的衍生品公允价值变动进行披露，在发生可能对投资者或者结构性存款收益产生重大影响的事件后及时发布重大报告； 4、各期衍生品公允价值变化如下表：
A3: 编号 | B3: 存续期限 | C3: 风险等级 | D3: 成立日 | E3: 到期日 | F3: 投资金额（元） | G3: 产品类型 | H3: 挂钩标的 | I3: 参考最低年化收益率 | J3: 参考最高年化收益率 | K3: 衍生品公允价值变化
A4: CK2202512 | B4: =LOOKUP(1,0/(LEFT([1]原始数据!A:A,LEN(A4))=A4),[1]原始数据!H:H) -> 365 | C4: 低风险 | D4: =LOOKUP(1,0/(LEFT([1]原始数据!A:A,LEN(A4))=A4),[1]原始数据!D:D) -> 44713 | E4: =LOOKUP(1,0/(LEFT([1]原始数据!A:A,LEN(A4))=A4),[1]原始数据!E:E) -> 45078 | F4: =SUMPRODUCT(--(LEFT([1]原始数据!A:A,LEN(A4))=A4),[1]原始数据!Z:Z) -> 10000000 | G4: 保本浮动收益型 | H4: =LOOKUP(1,0/(LEFT([1]原始数据!A:A,LEN(A4))=A4),[1]原始数据!AF:AF) -> SHAU | I4: =LOOKUP(1,0/(LEFT([1]原始数据!A:A,LEN(A4))=A4),[1]原始数据!J:J) -> 0.0175 | J4: =LOOKUP(1,0/(LEFT([1]原始数据!A:A,LEN(A4))=A4),[1]原始数据!AH:AH) -> 0.036 | K4: =LOOKUP(1,0/(A4='[1]编号-资金中心'!A:A),'[1]编号-资金中心'!C:C) -> 181486.11
A5: CK2202586 | B5: =LOOKUP(1,0/(LEFT([1]原始数据!A:A,LEN(A5))=A5),[1]原始数据!H:H) -> 365 | C5: 低风险 | D5: =LOOKUP(1,0/(LEFT([1]原始数据!A:A,LEN(A5))=A5),[1]原始数据!D:D) -> 44742 | E5: =LOOKUP(1,0/(LEFT([1]原始数据!A:A,LEN(A5))=A5),[1]原始数据!E:E) -> 45107 | F5: =SUMPRODUCT(--(LEFT([1]原始数据!A:A,LEN(A5))=A5),[1]原始数据!Z:Z) -> 500000000 | G5: 保本浮动收益型 | H5: =LOOKUP(1,0/(LEFT([1]原始数据!A:A,LEN(A5))=A5),[1]原始数据!AF:AF) -> SHAU | I5: =LOOKUP(1,0/(LEFT([1]原始数据!A:A,LEN(A5))=A5),[1]原始数据!J:J) -> 0.0175 | J5: =LOOKUP(1,0/(LEFT([1]原始数据!A:A,LEN(A5))=A5),[1]原始数据!AH:AH) -> 0.0365 | K5: =LOOKUP(1,0/(A5='[1]编号-资金中心'!A:A),'[1]编号-资金中心'!C:C) -> 9023611.11
A6: CK2202726 | B6: =LOOKUP(1,0/(LEFT([1]原始数据!A:A,LEN(A6))=A6),[1]原始数据!H:H) -> 356 | C6: 低风险 | D6: =LOOKUP(1,0/(LEFT([1]原始数据!A:A,LEN(A6))=A6),[1]原始数据!D:D) -> 44806 | E6: =LOOKUP(1,0/(LEFT([1]原始数据!A:A,LEN(A6))=A6),[1]原始数据!E:E) -> 45162 | F6: =SUMPRODUCT(--(LEFT([1]原始数据!A:A,LEN(A6))=A6),[1]原始数据!Z:Z) -> 100000000 | G6: 保本浮动收益型 | H6: =LOOKUP(1,0/(LEFT([1]原始数据!A:A,LEN(A6))=A6),[1]原始数据!AF:AF) -> SHAU | I6: =LOOKUP(1,0/(LEFT([1]原始数据!A:A,LEN(A6))=A6),[1]原始数据!J:J) -> 0.0155 | J6: =LOOKUP(1,0/(LEFT([1]原始数据!A:A,LEN(A6))=A6),[1]原始数据!AH:AH) -> 0.038 | K6: =LOOKUP(1,0/(A6='[1]编号-资金中心'!A:A),'[1]编号-资金中心'!C:C) -> 2106333.33
A7: CK2202740 | B7: =LOOKUP(1,0/(LEFT([1]原始数据!A:A,LEN(A7))=A7),[1]原始数据!H:H) -> 360 | C7: 低风险 | D7: =LOOKUP(1,0/(LEFT([1]原始数据!A:A,LEN(A7))=A7),[1]原始数据!D:D) -> 44813 | E7: =LOOKUP(1,0/(LEFT([1]原始数据!A:A,LEN(A7))=A7),[1]原始数据!E:E) -> 45173 | F7: =SUMPRODUCT(--(LEFT([1]原始数据!A:A,LEN(A7))=A7),[1]原始数据!Z:Z) -> 150000000 | G7: 保本浮动收益型 | H7: =LOOKUP(1,0/(LEFT([1]原始数据!A:A,LEN(A7))=A7),[1]原始数据!AF:AF) -> SHAU | I7: =LOOKUP(1,0/(LEFT([1]原始数据!A:A,LEN(A7))=A7),[1]原始数据!J:J) -> 0.0155 | J7: =LOOKUP(1,0/(LEFT([1]原始数据!A:A,LEN(A7))=A7),[1]原始数据!AH:AH) -> 0.039 | K7: =LOOKUP(1,0/(A7='[1]编号-资金中心'!A:A),'[1]编号-资金中心'!C:C) -> 3345000.00
A8: CK2202830 | B8: =LOOKUP(1,0/(LEFT([1]原始数据!A:A,LEN(A8))=A8),[1]原始数据!H:H) -> 365 | C8: 低风险 | D8: =LOOKUP(1,0/(LEFT([1]原始数据!A:A,LEN(A8))=A8),[1]原始数据!D:D) -> 44867 | E8: =LOOKUP(1,0/(LEFT([1]原始数据!A:A,LEN(A8))=A8),[1]原始数据!E:E) -> 45232 | F8: =SUMPRODUCT(--(LEFT([1]原始数据!A:A,LEN(A8))=A8),[1]原始数据!Z:Z) -> 100000000 | G8: 保本浮动收益型 | H8: =LOOKUP(1,0/(LEFT([1]原始数据!A:A,LEN(A8))=A8),[1]原始数据!AF:AF) -> SHAU | I8: =LOOKUP(1,0/(LEFT([1]原始数据!A:A,LEN(A8))=A8),[1]原始数据!J:J) -> 0.0175 | J8: =LOOKUP(1,0/(LEFT([1]原始数据!A:A,LEN(A8))=A8),[1]原始数据!AH:AH) -> 0.0375 | K8: =LOOKUP(1,0/(A8='[1]编号-资金中心'!A:A),'[1]编号-资金中心'!C:C) -> 1906111.11
A9: CK2202862 | B9: =LOOKUP(1,0/(LEFT([1]原始数据!A:A,LEN(A9))=A9),[1]原始数据!H:H) -> 360 | C9: 低风险 | D9: =LOOKUP(1,0/(LEFT([1]原始数据!A:A,LEN(A9))=A9),[1]原始数据!D:D) -> 44876 | E9: =LOOKUP(1,0/(LEFT([1]原始数据!A:A,LEN(A9))=A9),[1]原始数据!E:E) -> 45236 | F9: =SUMPRODUCT(--(LEFT([1]原始数据!A:A,LEN(A9))=A9),[1]原始数据!Z:Z) -> 100000000 | G9: 保本浮动收益型 | H9: =LOOKUP(1,0/(LEFT([1]原始数据!A:A,LEN(A9))=A9),[1]原始数据!AF:AF) -> SHAU | I9: =LOOKUP(1,0/(LEFT([1]原始数据!A:A,LEN(A9))=A9),[1]原始数据!J:J) -> 0.0155 | J9: =LOOKUP(1,0/(LEFT([1]原始数据!A:A,LEN(A9))=A9),[1]原始数据!AH:AH) -> 0.0395 | K9: =LOOKUP(1,0/(A9='[1]编号-资金中心'!A:A),'[1]编号-资金中心'!C:C) -> 2280000.00
A10: CK2202870 | B10: =LOOKUP(1,0/(LEFT([1]原始数据!A:A,LEN(A10))=A10),[1]原始数据!H:H) -> 361 | C10: 低风险 | D10: =LOOKUP(1,0/(LEFT([1]原始数据!A:A,LEN(A10))=A10),[1]原始数据!D:D) -> 44882 | E10: =LOOKUP(1,0/(LEFT([1]原始数据!A:A,LEN(A10))=A10),[1]原始数据!E:E) -> 45243 | F10: =SUMPRODUCT(--(LEFT([1]原始数据!A:A,LEN(A10))=A10),[1]原始数据!Z:Z) -> 150000000 | G10: 保本浮动收益型 | H10: =LOOKUP(1,0/(LEFT([1]原始数据!A:A,LEN(A10))=A10),[1]原始数据!AF:AF) -> SHAU | I10: =LOOKUP(1,0/(LEFT([1]原始数据!A:A,LEN(A10))=A10),[1]原始数据!J:J) -> 0.0155 | J10: =LOOKUP(1,0/(LEFT([1]原始数据!A:A,LEN(A10))=A10),[1]原始数据!AH:AH) -> 0.0395 | K10: =LOOKUP(1,0/(A10='[1]编号-资金中心'!A:A),'[1]编号-资金中心'!C:C) -> 3429500.00
A11: CK2202891 | B11: =LOOKUP(1,0/(LEFT([1]原始数据!A:A,LEN(A11))=A11),[1]原始数据!H:H) -> 189 | C11: 低风险 | D11: =LOOKUP(1,0/(LEFT([1]原始数据!A:A,LEN(A11))=A11),[1]原始数据!D:D) -> 44890 | E11: =LOOKUP(1,0/(LEFT([1]原始数据!A:A,LEN(A11))=A11),[1]原始数据!E:E) -> 45079 | F11: =SUMPRODUCT(--(LEFT([1]原始数据!A:A,LEN(A11))=A11),[1]原始数据!Z:Z) -> 100000000 | G11: 保本浮动收益型 | H11: =LOOKUP(1,0/(LEFT([1]原始数据!A:A,LEN(A11))=A11),[1]原始数据!AF:AF) -> SHAU | I11: =LOOKUP(1,0/(LEFT([1]原始数据!A:A,LEN(A11))=A11),[1]原始数据!J:J) -> 0.0155 | J11: =LOOKUP(1,0/(LEFT([1]原始数据!A:A,LEN(A11))=A11),[1]原始数据!AH:AH) -> 0.036 | K11: =LOOKUP(1,0/(A11='[1]编号-资金中心'!A:A),'[1]编号-资金中心'!C:C) -> 1013250.00
A12: CK2202903 | B12: =LOOKUP(1,0/(LEFT([1]原始数据!A:A,LEN(A12))=A12),[1]原始数据!H:H) -> 365 | C12: 低风险 | D12: =LOOKUP(1,0/(LEFT([1]原始数据!A:A,LEN(A12))=A12),[1]原始数据!D:D) -> 44894 | E12: =LOOKUP(1,0/(LEFT([1]原始数据!A:A,LEN(A12))=A12),[1]原始数据!E:E) -> 45259 | F12: =SUMPRODUCT(--(LEFT([1]原始数据!A:A,LEN(A12))=A12),[1]原始数据!Z:Z) -> 45000000 | G12: 保本浮动收益型 | H12: =LOOKUP(1,0/(LEFT([1]原始数据!A:A,LEN(A12))=A12),[1]原始数据!AF:AF) -> SHAU | I12: =LOOKUP(1,0/(LEFT([1]原始数据!A:A,LEN(A12))=A12),[1]原始数据!J:J) -> 0.0175 | J12: =LOOKUP(1,0/(LEFT([1]原始数据!A:A,LEN(A12))=A12),[1]原始数据!AH:AH) -> 0.037 | K12: =LOOKUP(1,0/(A12='[1]编号-资金中心'!A:A),'[1]编号-资金中心'!C:C) -> 834937.50
A13: CK2202878 | B13: =LOOKUP(1,0/(LEFT([1]原始数据!A:A,LEN(A13))=A13),[1]原始数据!H:H) -> 196 | C13: 低风险 | D13: =LOOKUP(1,0/(LEFT([1]原始数据!A:A,LEN(A13))=A13),[1]原始数据!D:D) -> 44883 | E13: =LOOKUP(1,0/(LEFT([1]原始数据!A:A,LEN(A13))=A13),[1]原始数据!E:E) -> 45079 | F13: =SUMPRODUCT(--(LEFT([1]原始数据!A:A,LEN(A13))=A13),[1]原始数据!Z:Z) -> 60000000 | G13: 保本浮动收益型 | H13: =LOOKUP(1,0/(LEFT([1]原始数据!A:A,LEN(A13))=A13),[1]原始数据!AF:AF) -> XAU/USD | I13: =LOOKUP(1,0/(LEFT([1]原始数据!A:A,LEN(A13))=A13),[1]原始数据!J:J) -> 0.0155 | J13: =LOOKUP(1,0/(LEFT([1]原始数据!A:A,LEN(A13))=A13),[1]原始数据!AH:AH) -> 0.035 | K13: =LOOKUP(1,0/(A13='[1]编号-资金中心'!A:A),'[1]编号-资金中心'!C:C) -> 604333.33
A14: CK2202915 | B14: =LOOKUP(1,0/(LEFT([1]原始数据!A:A,LEN(A14))=A14),[1]原始数据!H:H) -> 189 | C14: 低风险 | D14: =LOOKUP(1,0/(LEFT([1]原始数据!A:A,LEN(A14))=A14),[1]原始数据!D:D) -> 44897 | E14: =LOOKUP(1,0/(LEFT([1]原始数据!A:A,LEN(A14))=A14),[1]原始数据!E:E) -> 45086 | F14: =SUMPRODUCT(--(LEFT([1]原始数据!A:A,LEN(A14))=A14),[1]原始数据!Z:Z) -> 19000000 | G14: 保本浮动收益型 | H14: =LOOKUP(1,0/(LEFT([1]原始数据!A:A,LEN(A14))=A14),[1]原始数据!AF:AF) -> XAU/USD | I14: =LOOKUP(1,0/(LEFT([1]原始数据!A:A,LEN(A14))=A14),[1]原始数据!J:J) -> 0.0155 | J14: =LOOKUP(1,0/(LEFT([1]原始数据!A:A,LEN(A14))=A14),[1]原始数据!AH:AH) -> 0.035 | K14: =LOOKUP(1,0/(A14='[1]编号-资金中心'!A:A),'[1]编号-资金中心'!C:C) -> 183540.00
A15: CK2202922 | B15: =LOOKUP(1,0/(LEFT([1]原始数据!A:A,LEN(A15))=A15),[1]原始数据!H:H) -> 178 | C15: 低风险 | D15: =LOOKUP(1,0/(LEFT([1]原始数据!A:A,LEN(A15))=A15),[1]原始数据!D:D) -> 44901 | E15: =LOOKUP(1,0/(LEFT([1]原始数据!A:A,LEN(A15))=A15),[1]原始数据!E:E) -> 45079 | F15: =SUMPRODUCT(--(LEFT([1]原始数据!A:A,LEN(A15))=A15),[1]原始数据!Z:Z) -> 50000000 | G15: 保本浮动收益型 | H15: =LOOKUP(1,0/(LEFT([1]原始数据!A:A,LEN(A15))=A15),[1]原始数据!AF:AF) -> XAU/USD | I15: =LOOKUP(1,0/(LEFT([1]原始数据!A:A,LEN(A15))=A15),[1]原始数据!J:J) -> 0.0154 | J15: =LOOKUP(1,0/(LEFT([1]原始数据!A:A,LEN(A15))=A15),[1]原始数据!AH:AH) -> 0.0385 | K15: =LOOKUP(1,0/(A15='[1]编号-资金中心'!A:A),'[1]编号-资金中心'!C:C) -> 543888.89
... A153: CK2302182 | B153: =LOOKUP(1,0/(LEFT([1]原始数据!A:A,LEN(A153))=A153),[1]原始数据!H:H) -> 30 | C153: 低风险 | D153: =LOOKUP(1,0/(LEFT([1]原始数据!A:A,LEN(A153))=A153),[1]原始数据!D:D) -> 45077 | E153: =LOOKUP(1,0/(LEFT([1]原始数据!A:A,LEN(A153))=A153),[1]原始数据!E:E) -> 45107 | F153: =SUMPRODUCT(--(LEFT([1]原始数据!A:A,LEN(A153))=A153),[1]原始数据!Z:Z) -> 100000000 | G153: 保本浮动收益型 | H153: =LOOKUP(1,0/(LEFT([1]原始数据!A:A,LEN(A153))=A153),[1]原始数据!AF:AF) -> XAU/USD | I153: =LOOKUP(1,0/(LEFT([1]原始数据!A:A,LEN(A153))=A153),[1]原始数据!J:J) -> 0.01485 | J153: =LOOKUP(1,0/(LEFT([1]原始数据!A:A,LEN(A153))=A153),[1]原始数据!AH:AH) -> 0.035 | K153: =LOOKUP(1,0/(A153='[1]编号-资金中心'!A:A),'[1]编号-资金中心'!C:C) -> 155416.67
